BEGIN:VCALENDAR
VERSION:2.0
PRODID:-//Strummin Foundation - ECPv6.15.20//NONSGML v1.0//EN
CALSCALE:GREGORIAN
METHOD:PUBLISH
X-WR-CALNAME:Strummin Foundation
X-ORIGINAL-URL:https://strummin.mt
X-WR-CALDESC:Events for Strummin Foundation
REFRESH-INTERVAL;VALUE=DURATION:PT1H
X-Robots-Tag:noindex
X-PUBLISHED-TTL:PT1H
BEGIN:VTIMEZONE
TZID:Europe/Malta
BEGIN:DAYLIGHT
TZOFFSETFROM:+0100
TZOFFSETTO:+0200
TZNAME:CEST
DTSTART:20210328T010000
END:DAYLIGHT
BEGIN:STANDARD
TZOFFSETFROM:+0200
TZOFFSETTO:+0100
TZNAME:CET
DTSTART:20211031T010000
END:STANDARD
BEGIN:DAYLIGHT
TZOFFSETFROM:+0100
TZOFFSETTO:+0200
TZNAME:CEST
DTSTART:20220327T010000
END:DAYLIGHT
BEGIN:STANDARD
TZOFFSETFROM:+0200
TZOFFSETTO:+0100
TZNAME:CET
DTSTART:20221030T010000
END:STANDARD
BEGIN:DAYLIGHT
TZOFFSETFROM:+0100
TZOFFSETTO:+0200
TZNAME:CEST
DTSTART:20230326T010000
END:DAYLIGHT
BEGIN:STANDARD
TZOFFSETFROM:+0200
TZOFFSETTO:+0100
TZNAME:CET
DTSTART:20231029T010000
END:STANDARD
BEGIN:DAYLIGHT
TZOFFSETFROM:+0100
TZOFFSETTO:+0200
TZNAME:CEST
DTSTART:20240331T010000
END:DAYLIGHT
BEGIN:STANDARD
TZOFFSETFROM:+0200
TZOFFSETTO:+0100
TZNAME:CET
DTSTART:20241027T010000
END:STANDARD
BEGIN:DAYLIGHT
TZOFFSETFROM:+0100
TZOFFSETTO:+0200
TZNAME:CEST
DTSTART:20250330T010000
END:DAYLIGHT
BEGIN:STANDARD
TZOFFSETFROM:+0200
TZOFFSETTO:+0100
TZNAME:CET
DTSTART:20251026T010000
END:STANDARD
END:VTIMEZONE
BEGIN:VEVENT
DTSTART;TZID=Europe/Malta:20241109T200000
DTEND;TZID=Europe/Malta:20241109T230000
DTSTAMP:20260421T172549
CREATED:20240516T075022Z
LAST-MODIFIED:20241108T101741Z
UID:10000015-1731182400-1731193200@strummin.mt
SUMMARY:Strummin' 20 Years of Gold
DESCRIPTION:20 Years of Hits — 20 Years of Gold.   \nIn our special 20th Edition\, we celebrate all the songs\, people and moments that made Strummin’ a household name in the Maltese music calendar.  \nJoin a 50-strong guitar choir\, our band and 30 singers in a night full of bling! So put on your Sunday best\, and join the glamour that is going to be our 20th celebration of music\, friendship and talent.  \nThe event is suitable for audiences of 5 years and over. \nDoors open at 7:30p.m. Car-sharing is highly encouraged. \nDress code: Cocktail \nThe show includes an intermission and strobe-effect lighting. \nThis concert is organised by Strummin’ Foundation. \n\nStrummin’ 20 Years of Gold is sponsored by dna.studio\, APS Bank\, Bay Easy\, Kwinti Studjows\, The Sound System\, Booth and Luca Gouder Photography. \n\nAll proceeds from the concerts will be donated to Dr Klown. \n  \n 
URL:https://strummin.mt/event/strummin-20yearsofgold-saturday/
LOCATION:St Agatha’s Auditorium\, St. Agatha's Auditorium\, Rabat\, Malta
CATEGORIES:Concert
ATTACH;FMTTYPE=image/jpeg:https://strummin.mt/wp-content/uploads/2024/05/TICKET-SPLASH_SAT-1.jpg
ORGANIZER;CN="Strummin' Foundation":MAILTO:foundation@strummin.mt
GEO:35.88095;14.39672
X-APPLE-STRUCTURED-LOCATION;VALUE=URI;X-ADDRESS=St Agatha’s Auditorium St. Agatha's Auditorium Rabat Malta;X-APPLE-RADIUS=500;X-TITLE=St. Agatha's Auditorium:geo:14.39672,35.88095
END:VEVENT
BEGIN:VEVENT
DTSTART;TZID=Europe/Malta:20241108T200000
DTEND;TZID=Europe/Malta:20241108T230000
DTSTAMP:20260421T172549
CREATED:20240516T074348Z
LAST-MODIFIED:20251228T151913Z
UID:10000014-1731096000-1731106800@strummin.mt
SUMMARY:Strummin' 20 Years of Gold
DESCRIPTION:20 Years of Hits — 20 Years of Gold.   \nIn our special 20th Edition\, we celebrate all the songs\, people and moments that made Strummin’ a household name in the Maltese music calendar.  \nJoin a 50-strong guitar choir\, our band and 30 singers in a night full of bling! So put on your Sunday best\, and join the glamour that is going to be our 20th celebration of music\, friendship and talent.  \nThe event is suitable for audiences of 5 years and over.\n\nDoors open at 7:30p.m. Car-sharing is highly encouraged.\n\nDress code: Cocktail\n\nThe show includes an intermission and strobe-effect lighting.\nThis concert is organised by Strummin’ Foundation. \n\nStrummin’ 20 Years of Gold is sponsored by dna.studio\, APS Bank\, Bay Easy\, Kwinti Studjows\, The Sound System\, Booth and Luca Gouder Photography. \n\nAll proceeds from the concerts will be donated to Dr Klown. \n 
URL:https://strummin.mt/event/strummin-20yearsofgold/
LOCATION:St Agatha’s Auditorium\, St. Agatha's Auditorium\, Rabat\, Malta
CATEGORIES:Concert
ATTACH;FMTTYPE=image/jpeg:https://strummin.mt/wp-content/uploads/2024/05/TICKET-SPLASH_FRI-1.jpg
ORGANIZER;CN="Strummin' Foundation":MAILTO:foundation@strummin.mt
GEO:35.88095;14.39672
X-APPLE-STRUCTURED-LOCATION;VALUE=URI;X-ADDRESS=St Agatha’s Auditorium St. Agatha's Auditorium Rabat Malta;X-APPLE-RADIUS=500;X-TITLE=St. Agatha's Auditorium:geo:14.39672,35.88095
END:VEVENT
BEGIN:VEVENT
DTSTART;TZID=Europe/Malta:20240915T190000
DTEND;TZID=Europe/Malta:20240915T233000
DTSTAMP:20260421T172549
CREATED:20240820T171341Z
LAST-MODIFIED:20240822T081110Z
UID:10000018-1726426800-1726443000@strummin.mt
SUMMARY:Pasta Night
DESCRIPTION:Our most awaited fundraiser of the year – Strummin’ Pasta Night is back! Join the cast and crew from the upcoming concert\, to raise funds for this year’s November concert. \nPrices: \nAdults – €15 \nChildren (between 4 and 12 years of age) – €10 \nChildren (3 years old and under)– FREE \nTickets include all food and 1 free drink from the bar. Additional beverages to be paid in cash at the bar. \nFeel free to bring your reusable lunch boxes to take home any leftovers at a discounted price. \n  \nThree types of delicious pasta will be available:\n1️⃣ Bolognese – (Gluten-free & Lactose free options available)\n2️⃣ Bacon and mushroom in white sauce\n3️⃣ Vegetarian – (Gluten-free & Lactose free options available) \nIf you encounter any issues or need further information\, kindly email foundation@strummin.mt or send us a private message through the Strummin’ Facebook page.\nWe can’t wait to see you all there! ☺️ \n  \nA booking fee will be added for each online transaction. The booking fee is non-refundable. \n 
URL:https://strummin.mt/event/pasta-night-2024/
LOCATION:St Agatha’s Auditorium\, St. Agatha's Auditorium\, Rabat\, Malta
CATEGORIES:Fundraiser
ATTACH;FMTTYPE=image/jpeg:https://strummin.mt/wp-content/uploads/2024/08/ticket-Splash-scaled.jpg
ORGANIZER;CN="Strummin' Foundation":MAILTO:foundation@strummin.mt
GEO:35.88095;14.39672
X-APPLE-STRUCTURED-LOCATION;VALUE=URI;X-ADDRESS=St Agatha’s Auditorium St. Agatha's Auditorium Rabat Malta;X-APPLE-RADIUS=500;X-TITLE=St. Agatha's Auditorium:geo:14.39672,35.88095
END:VEVENT
BEGIN:VEVENT
DTSTART;TZID=Europe/Malta:20231014T200000
DTEND;TZID=Europe/Malta:20231014T230000
DTSTAMP:20260421T172549
CREATED:20230712T123850Z
LAST-MODIFIED:20240503T120442Z
UID:10000008-1697313600-1697324400@strummin.mt
SUMMARY:Strummin' Turn Back Time
DESCRIPTION:Hop on our time machine… We’re ready to take you on a journey down memory lane. Join a 50-strong guitar choir\, our band and 30 singers and help us Turn Back Time to music from the 1940s to this decade! A show that will delight both grannies\, boomers\, millennials and children.  \nThe event is suitable for audiences of 5 years and over. \nDoors open at 7:30p.m. Car-sharing is highly encouraged.\nThe show includes an intermission and strobe-effect lighting. \nThis concert is organised by Strummin’ Foundation. \n\nStrummin’ Turn Back Time is sponsored by dna.studio\, KPMG\, Kwinti Studjows\, Nexos Lighting\, Booth and Luca Gouder Photography. \n\nAll proceeds from the concerts will be donated to Foodbank Lifeline Foundation.
URL:https://strummin.mt/event/strummin-turn-back-time-sat/
LOCATION:St Agatha’s Auditorium\, St. Agatha's Auditorium\, Rabat\, Malta
CATEGORIES:Concert
ATTACH;FMTTYPE=image/jpeg:https://strummin.mt/wp-content/uploads/2023/07/TICKET-SPLASH_SATURDAY-2.jpg
ORGANIZER;CN="Strummin' Foundation":MAILTO:foundation@strummin.mt
GEO:35.88095;14.39672
X-APPLE-STRUCTURED-LOCATION;VALUE=URI;X-ADDRESS=St Agatha’s Auditorium St. Agatha's Auditorium Rabat Malta;X-APPLE-RADIUS=500;X-TITLE=St. Agatha's Auditorium:geo:14.39672,35.88095
END:VEVENT
BEGIN:VEVENT
DTSTART;TZID=Europe/Malta:20231013T200000
DTEND;TZID=Europe/Malta:20231013T230000
DTSTAMP:20260421T172549
CREATED:20230711T132147Z
LAST-MODIFIED:20240503T120507Z
UID:10000007-1697227200-1697238000@strummin.mt
SUMMARY:Strummin' Turn Back Time
DESCRIPTION:Hop on our time machine… We’re ready to take you on a journey down memory lane. Join a 50-strong guitar choir\, our band and 30 singers and help us Turn Back Time to music from the 1940s to this decade! A show that will delight both grannies\, boomers\, millennials and children.  \nThe event is suitable for audiences of 5 years and over. \nDoors open at 7:30p.m. Car-sharing is highly encouraged.\nThe show includes an intermission and strobe-effect lighting. \nThis concert is organised by Strummin’ Foundation. \n\nStrummin’ Turn Back Time is sponsored by dna.studio\, KPMG\, Kwinti Studjows\, Nexos Lighting\, Booth and Luca Gouder Photography. \n\nAll proceeds from the concerts will be donated to Foodbank Lifeline Foundation.
URL:https://strummin.mt/event/strummin-turn-back-time/
LOCATION:St Agatha’s Auditorium\, St. Agatha's Auditorium\, Rabat\, Malta
CATEGORIES:Concert
ATTACH;FMTTYPE=image/jpeg:https://strummin.mt/wp-content/uploads/2023/07/TICKET-SPLASH_FRI-1.jpg
ORGANIZER;CN="Strummin' Foundation":MAILTO:foundation@strummin.mt
GEO:35.88095;14.39672
X-APPLE-STRUCTURED-LOCATION;VALUE=URI;X-ADDRESS=St Agatha’s Auditorium St. Agatha's Auditorium Rabat Malta;X-APPLE-RADIUS=500;X-TITLE=St. Agatha's Auditorium:geo:14.39672,35.88095
END:VEVENT
BEGIN:VEVENT
DTSTART;TZID=Europe/Malta:20230917T190000
DTEND;TZID=Europe/Malta:20230917T233000
DTSTAMP:20260421T172549
CREATED:20240820T093633Z
LAST-MODIFIED:20240820T172910Z
UID:10000009-1694977200-1694993400@strummin.mt
SUMMARY:Pasta Night
DESCRIPTION:Our most awaited fundraiser of the year – Strummin’ Pasta Night is back! Join the cast and crew from the upcoming concert\, to raise funds for this year’s October concert. \nPrices: \nAdults – €15 \nChildren (between 4 and 12 years of age) – €10 \nChildren (3 years old and under)– FREE \nTickets include all food and 1 free drink from the bar. Additional beverages to be paid in cash at the bar. \nFeel free to bring your reusable lunch boxes to take home any leftovers at a discounted price. \n  \nThree types of delicious pasta will be available:\n1️⃣ Bolognese – (Gluten-free options available)\n2️⃣ Bacon and mushroom in white sauce\n3️⃣ Vegetarian – (Gluten-free options available) \nIf you encounter any issues or need further information\, kindly email foundation@strummin.mt or send us a private message through the Strummin’ Facebook page.\nWe can’t wait to see you all there! ☺️ \n  \nA booking fee will be added for each online transaction. The booking fee is non-refundable. \n 
URL:https://strummin.mt/event/pasta-night/
LOCATION:St Agatha’s Auditorium\, St. Agatha's Auditorium\, Rabat\, Malta
CATEGORIES:Fundraiser
ATTACH;FMTTYPE=image/jpeg:https://strummin.mt/wp-content/uploads/2023/07/Pasta-Night-ticket-image.jpg
ORGANIZER;CN="Strummin' Foundation":MAILTO:foundation@strummin.mt
GEO:35.88095;14.39672
X-APPLE-STRUCTURED-LOCATION;VALUE=URI;X-ADDRESS=St Agatha’s Auditorium St. Agatha's Auditorium Rabat Malta;X-APPLE-RADIUS=500;X-TITLE=St. Agatha's Auditorium:geo:14.39672,35.88095
END:VEVENT
BEGIN:VEVENT
DTSTART;TZID=Europe/Malta:20221008T200000
DTEND;TZID=Europe/Malta:20221008T230000
DTSTAMP:20260421T172549
CREATED:20220831T082354Z
LAST-MODIFIED:20230724T105119Z
UID:10000005-1665259200-1665270000@strummin.mt
SUMMARY:Strummin' Round The World
DESCRIPTION:Join us on our hot air balloon as we embark on a journey Round the World. Strummin’ is back with an ode to all the travels we missed out on during the pandemic. We will follow a Strummin’ busker as they explore the world with their guitar and experience different music genres and styles. \n\nFollow our 50-strong guitar choir\, accompanied by singers and our band through a night of music from all the continents. \n\nThis concert is organised by Strummin’ Foundation. \n\nStrummin’ Round the World is sponsored by dna.studio and Kwinti Studjows. \n\nAll proceeds from the concerts will be donated to Smiling with Jerome Foundation.
URL:https://strummin.mt/event/strummin-round-the-world-2/
LOCATION:St Agatha’s Auditorium\, St. Agatha's Auditorium\, Rabat\, Malta
ATTACH;FMTTYPE=image/jpeg:https://strummin.mt/wp-content/uploads/2022/08/Ticket_Splash_SATURDAY.jpg
ORGANIZER;CN="Strummin' Foundation":MAILTO:foundation@strummin.mt
GEO:35.88095;14.39672
X-APPLE-STRUCTURED-LOCATION;VALUE=URI;X-ADDRESS=St Agatha’s Auditorium St. Agatha's Auditorium Rabat Malta;X-APPLE-RADIUS=500;X-TITLE=St. Agatha's Auditorium:geo:14.39672,35.88095
END:VEVENT
BEGIN:VEVENT
DTSTART;TZID=Europe/Malta:20221007T200000
DTEND;TZID=Europe/Malta:20221007T230000
DTSTAMP:20260421T172549
CREATED:20220830T134615Z
LAST-MODIFIED:20221007T112021Z
UID:10000004-1665172800-1665183600@strummin.mt
SUMMARY:Strummin' Round The World
DESCRIPTION:Join us on our hot air balloon as we embark on a journey Round the World. Strummin’ is back with an ode to all the travels we missed out on during the pandemic. We will follow a Strummin’ busker as they explore the world with their guitar and experience different music genres and styles. \n\nFollow our 50-strong guitar choir\, accompanied by singers and our band through a night of music from all the continents. \n\nThis concert is organised by Strummin’ Foundation. \n\nStrummin’ Round the World is sponsored by dna.studio and Kwinti Studjows. \n\nAll proceeds from the concerts will be donated to Smiling with Jerome Foundation.
URL:https://strummin.mt/event/strummin-round-the-world/
LOCATION:St Agatha’s Auditorium\, St. Agatha's Auditorium\, Rabat\, Malta
ATTACH;FMTTYPE=image/jpeg:https://strummin.mt/wp-content/uploads/2022/08/Ticket_Splash_FRIDAY.jpg
ORGANIZER;CN="Strummin' Foundation":MAILTO:foundation@strummin.mt
GEO:35.88095;14.39672
X-APPLE-STRUCTURED-LOCATION;VALUE=URI;X-ADDRESS=St Agatha’s Auditorium St. Agatha's Auditorium Rabat Malta;X-APPLE-RADIUS=500;X-TITLE=St. Agatha's Auditorium:geo:14.39672,35.88095
END:VEVENT
END:VCALENDAR