BEGIN:VCALENDAR
VERSION:2.0
PRODID:-//Strummin Foundation - ECPv6.15.20//NONSGML v1.0//EN
CALSCALE:GREGORIAN
METHOD:PUBLISH
X-ORIGINAL-URL:https://strummin.mt
X-WR-CALDESC:Events for Strummin Foundation
REFRESH-INTERVAL;VALUE=DURATION:PT1H
X-Robots-Tag:noindex
X-PUBLISHED-TTL:PT1H
BEGIN:VTIMEZONE
TZID:Europe/London
BEGIN:DAYLIGHT
TZOFFSETFROM:+0000
TZOFFSETTO:+0100
TZNAME:BST
DTSTART:20220327T010000
END:DAYLIGHT
BEGIN:STANDARD
TZOFFSETFROM:+0100
TZOFFSETTO:+0000
TZNAME:GMT
DTSTART:20221030T010000
END:STANDARD
BEGIN:DAYLIGHT
TZOFFSETFROM:+0000
TZOFFSETTO:+0100
TZNAME:BST
DTSTART:20230326T010000
END:DAYLIGHT
BEGIN:STANDARD
TZOFFSETFROM:+0100
TZOFFSETTO:+0000
TZNAME:GMT
DTSTART:20231029T010000
END:STANDARD
BEGIN:DAYLIGHT
TZOFFSETFROM:+0000
TZOFFSETTO:+0100
TZNAME:BST
DTSTART:20240331T010000
END:DAYLIGHT
BEGIN:STANDARD
TZOFFSETFROM:+0100
TZOFFSETTO:+0000
TZNAME:GMT
DTSTART:20241027T010000
END:STANDARD
END:VTIMEZONE
BEGIN:VTIMEZONE
TZID:Europe/Malta
BEGIN:DAYLIGHT
TZOFFSETFROM:+0100
TZOFFSETTO:+0200
TZNAME:CEST
DTSTART:20210328T010000
END:DAYLIGHT
BEGIN:STANDARD
TZOFFSETFROM:+0200
TZOFFSETTO:+0100
TZNAME:CET
DTSTART:20211031T010000
END:STANDARD
BEGIN:DAYLIGHT
TZOFFSETFROM:+0100
TZOFFSETTO:+0200
TZNAME:CEST
DTSTART:20220327T010000
END:DAYLIGHT
BEGIN:STANDARD
TZOFFSETFROM:+0200
TZOFFSETTO:+0100
TZNAME:CET
DTSTART:20221030T010000
END:STANDARD
BEGIN:DAYLIGHT
TZOFFSETFROM:+0100
TZOFFSETTO:+0200
TZNAME:CEST
DTSTART:20230326T010000
END:DAYLIGHT
BEGIN:STANDARD
TZOFFSETFROM:+0200
TZOFFSETTO:+0100
TZNAME:CET
DTSTART:20231029T010000
END:STANDARD
BEGIN:DAYLIGHT
TZOFFSETFROM:+0100
TZOFFSETTO:+0200
TZNAME:CEST
DTSTART:20240331T010000
END:DAYLIGHT
BEGIN:STANDARD
TZOFFSETFROM:+0200
TZOFFSETTO:+0100
TZNAME:CET
DTSTART:20241027T010000
END:STANDARD
END:VTIMEZONE
BEGIN:VEVENT
DTSTART;TZID=Europe/London:20230922T180000
DTEND;TZID=Europe/London:20230922T210000
DTSTAMP:20260421T141757
CREATED:20230828T132444Z
LAST-MODIFIED:20230907T061639Z
UID:10000012-1695405600-1695416400@strummin.mt
SUMMARY:Voice Masterclass
DESCRIPTION:Book your place at our Voice Masterclass with Pamela Bezzina\, on the 22nd September at Kwinti Studjows\, Ħamrun. \nThe workshop is open for singers from 16 years up ranging from beginners to more advanced levels. \nPrice: €30 per participant. Booking is required\, and payment is collected by Revolut at booking stage. \n  \nThe aims of the masterclass are: \n1) to strengthen the participants’ awareness of their own voice in terms of vocal abilities\, strengths and limitations \n2) to introduce vocal technique exercises such as warm ups\, vocal exercises\, cool down exercises and other basic vocal techniques. \n3) to discuss and explore ways on how to engage with an audience during a performance. \n  \nAbout the tutor:\n\n\n\nPamela Bezzina is one of Malta’s leading female singer-songwriters\, mostly known for her soul and gospel style\, and also a highly respected vocal director\, vocal arranger and voice coach. She started studying music and classical singing from a very young age\, and later shifting to contemporary music studies\, which led her to make a professional career as a performer. She is nowadays considered as one of Malta’s top female vocalists and sings with various popular Maltese bands including Versatile Brass\, The Residents and BigBand Brothers. \n\n\nPamela’s passion for song writing has also given her several beautifulopportunities. Apart from her most popular compositions such as “B’qalbi kollha … għal ħajti kollha” and “Sliem għalik”. Pamela also won the national song festival Għanja tal-Poplu 2017 as a composer of the song “Meta r-Ramel jitħallat mas-silġ” sung by Jessica Magro. She also had several songs in the finals of the most popular Maltese song contest Mużika Mużika 2022 and 2023\, which she composed and written lyrics to herself. \nApart from becoming a successful artist and songwriter\, Vocal Coaching and Choir Direction were always Pamela’s satisfaction and her impeccable musicality and interest in musical creativity led her to be entrusted many prestigious vocal arrangements including all the vocal arrangements by Animae Gospel Choir\, which choir Pamela founded together with Glen Vella and Leontine Spiteri in 2008 and also directs and mentors; Junior Eurovision Vocal Arrangements; Valletta18 European Capital City of Culture grand opening original musical symphony; and other original released songs with popular Maltese bands such as Wintermoods\, Red Electric\, the New Victorians\, Chogm celebrations\, and Rockestra. She had the opportunity to direct her choir in Assisi during Gospel Connection and also at the Malta Day in the United Kingdom in the presence of Her Excellency the President of Malta Marie Louise Coleiro Preca. She was also invited to sing abroad several times\, in countries such as Romania\, China\, Bulgaria\, Italy\, Russia\, United Kingdom\, Kazakhstan\, Australia\, Canada\, Monte Carlo and in Dubai at the Expo 2020\, where she was invited as a solo artist for the opening ceremony of the Malta Day at this prestigious event. \nPamela is the founder and director of VocalBooth Studios\, one of the top Voice and Singing Tuition entities in Malta. She graduated as a Speech and Langauge Pathologist from the University of Malta and practises Voice Therapy with singers who encounter any voice difficulties and together with several Otolaryngologists and ENT specialists in Malta she plans and administers a rehabilitation programme for singers with voice disorders. She is also trained in the Estill Vocal Technique – a singing technique which is very scientifically oriented and helps understand each individual’s voice in much more detail. \nThroughout the years Pamela coached many of Malta’s leading pop and contemporary singers\, including artists like Ira Losco\, Amber\, Firelight\, Gaia Cauchi\, Brooke and many more. During her sessions\, Pamela focuses mainly onvocal technique and performance\, where she helps singers explore their own voice with its abilities and limitations and guide them to use it in the healthiest yet most artistic manner. Pamela is also a certified Vocal Massage Therapist\, a method she studied with Mr. Jacob Lieberman and Mr. Stephen King\, which helps singers and voice clients release muscle tension around the vocal tract and thus ensuring better vocal health and performance.
URL:https://strummin.mt/event/voice-masterclass/
LOCATION:Kwinti Studjows\, 66\, Triq Dun Gorg Preca\, Hamrun\, Malta
CATEGORIES:Masterclass
ATTACH;FMTTYPE=image/jpeg:https://strummin.mt/wp-content/uploads/2023/08/TICKET-VOCAL.jpg
ORGANIZER;CN="Strummin' Foundation":MAILTO:foundation@strummin.mt
END:VEVENT
BEGIN:VEVENT
DTSTART;TZID=Europe/Malta:20230917T190000
DTEND;TZID=Europe/Malta:20230917T233000
DTSTAMP:20260421T141757
CREATED:20240820T093633Z
LAST-MODIFIED:20240820T172910Z
UID:10000009-1694977200-1694993400@strummin.mt
SUMMARY:Pasta Night
DESCRIPTION:Our most awaited fundraiser of the year – Strummin’ Pasta Night is back! Join the cast and crew from the upcoming concert\, to raise funds for this year’s October concert. \nPrices: \nAdults – €15 \nChildren (between 4 and 12 years of age) – €10 \nChildren (3 years old and under)– FREE \nTickets include all food and 1 free drink from the bar. Additional beverages to be paid in cash at the bar. \nFeel free to bring your reusable lunch boxes to take home any leftovers at a discounted price. \n  \nThree types of delicious pasta will be available:\n1️⃣ Bolognese – (Gluten-free options available)\n2️⃣ Bacon and mushroom in white sauce\n3️⃣ Vegetarian – (Gluten-free options available) \nIf you encounter any issues or need further information\, kindly email foundation@strummin.mt or send us a private message through the Strummin’ Facebook page.\nWe can’t wait to see you all there! ☺️ \n  \nA booking fee will be added for each online transaction. The booking fee is non-refundable. \n 
URL:https://strummin.mt/event/pasta-night/
LOCATION:St Agatha’s Auditorium\, St. Agatha's Auditorium\, Rabat\, Malta
CATEGORIES:Fundraiser
ATTACH;FMTTYPE=image/jpeg:https://strummin.mt/wp-content/uploads/2023/07/Pasta-Night-ticket-image.jpg
ORGANIZER;CN="Strummin' Foundation":MAILTO:foundation@strummin.mt
GEO:35.88095;14.39672
X-APPLE-STRUCTURED-LOCATION;VALUE=URI;X-ADDRESS=St Agatha’s Auditorium St. Agatha's Auditorium Rabat Malta;X-APPLE-RADIUS=500;X-TITLE=St. Agatha's Auditorium:geo:14.39672,35.88095
END:VEVENT
BEGIN:VEVENT
DTSTART;TZID=Europe/London:20230831T200000
DTEND;TZID=Europe/London:20230831T233000
DTSTAMP:20260421T141757
CREATED:20230809T075336Z
LAST-MODIFIED:20230809T081225Z
UID:10000011-1693512000-1693524600@strummin.mt
SUMMARY:Open Mic Night
DESCRIPTION:The stage is yours! Bring your instruments\, warm up your voice and take the stage!\nShowcase your talents at our next Open Mic night at Storeroom\, Ta’ Xbiex. \nEntry ticket: €5 at the door \nThis event is open for people aged 16 and over.
URL:https://strummin.mt/event/open-mic-august/
LOCATION:Storeroom\, 7\, Ix-Xatt ta' Xbiex\, Ta' Xbiex\, Malta
CATEGORIES:Fundraiser
ATTACH;FMTTYPE=image/jpeg:https://strummin.mt/wp-content/uploads/2023/08/EVENT-COVER-scaled.jpg
ORGANIZER;CN="Strummin' Foundation":MAILTO:foundation@strummin.mt
GEO:35.899196764478;14.500447913239
X-APPLE-STRUCTURED-LOCATION;VALUE=URI;X-ADDRESS=Storeroom 7 Ix-Xatt ta' Xbiex Ta' Xbiex Malta;X-APPLE-RADIUS=500;X-TITLE=7\, Ix-Xatt ta' Xbiex:geo:14.500447913239,35.899196764478
END:VEVENT
BEGIN:VEVENT
DTSTART;TZID=Europe/London:20230820T193000
DTEND;TZID=Europe/London:20230820T230000
DTSTAMP:20260421T141757
CREATED:20230808T131125Z
LAST-MODIFIED:20230818T073947Z
UID:10000010-1692559800-1692572400@strummin.mt
SUMMARY:Bingo Night
DESCRIPTION:Time for fun – 41!\nJoin us for a relaxed bingo night at cosy Marilù’s\, right next to Siġġiewi Church. \nYour ticket includes a welcome drink\, food and bingo ballots to participate. Great prizes to be won\, and plenty of fun guaranteed! \nPrice: €25 per person \nBooking is required. Payment is collected through Revolut on 99990407. Booking will be confirmed once payment is received in full. \nSee you there!
URL:https://strummin.mt/event/bingo-night/
LOCATION:Marilù’s\, 66-68\, Pjazza San Nikola\, Siġġiewi\, Malta
CATEGORIES:Fundraiser
ATTACH;FMTTYPE=image/png:https://strummin.mt/wp-content/uploads/2023/08/Event-Cover-scaled.png
ORGANIZER;CN="Strummin' Foundation":MAILTO:foundation@strummin.mt
END:VEVENT
BEGIN:VEVENT
DTSTART;TZID=Europe/London:20230610T200000
DTEND;TZID=Europe/London:20230610T220000
DTSTAMP:20260421T141757
CREATED:20230522T083521Z
LAST-MODIFIED:20230522T135459Z
UID:10000006-1686427200-1686434400@strummin.mt
SUMMARY:Strummin' Beneficiary Night
DESCRIPTION:
URL:https://strummin.mt/event/strummin-beneficiary-night/
LOCATION:NAAR Restobar\, Triq Censu Tabone\, St Julians\, Malta
ATTACH;FMTTYPE=image/jpeg:https://strummin.mt/wp-content/uploads/2023/05/EVENT-COVER.jpg
ORGANIZER;CN="Strummin' Foundation":MAILTO:foundation@strummin.mt
END:VEVENT
BEGIN:VEVENT
DTSTART;TZID=Europe/Malta:20221008T200000
DTEND;TZID=Europe/Malta:20221008T230000
DTSTAMP:20260421T141757
CREATED:20220831T082354Z
LAST-MODIFIED:20230724T105119Z
UID:10000005-1665259200-1665270000@strummin.mt
SUMMARY:Strummin' Round The World
DESCRIPTION:Join us on our hot air balloon as we embark on a journey Round the World. Strummin’ is back with an ode to all the travels we missed out on during the pandemic. We will follow a Strummin’ busker as they explore the world with their guitar and experience different music genres and styles. \n\nFollow our 50-strong guitar choir\, accompanied by singers and our band through a night of music from all the continents. \n\nThis concert is organised by Strummin’ Foundation. \n\nStrummin’ Round the World is sponsored by dna.studio and Kwinti Studjows. \n\nAll proceeds from the concerts will be donated to Smiling with Jerome Foundation.
URL:https://strummin.mt/event/strummin-round-the-world-2/
LOCATION:St Agatha’s Auditorium\, St. Agatha's Auditorium\, Rabat\, Malta
ATTACH;FMTTYPE=image/jpeg:https://strummin.mt/wp-content/uploads/2022/08/Ticket_Splash_SATURDAY.jpg
ORGANIZER;CN="Strummin' Foundation":MAILTO:foundation@strummin.mt
GEO:35.88095;14.39672
X-APPLE-STRUCTURED-LOCATION;VALUE=URI;X-ADDRESS=St Agatha’s Auditorium St. Agatha's Auditorium Rabat Malta;X-APPLE-RADIUS=500;X-TITLE=St. Agatha's Auditorium:geo:14.39672,35.88095
END:VEVENT
BEGIN:VEVENT
DTSTART;TZID=Europe/Malta:20221007T200000
DTEND;TZID=Europe/Malta:20221007T230000
DTSTAMP:20260421T141757
CREATED:20220830T134615Z
LAST-MODIFIED:20221007T112021Z
UID:10000004-1665172800-1665183600@strummin.mt
SUMMARY:Strummin' Round The World
DESCRIPTION:Join us on our hot air balloon as we embark on a journey Round the World. Strummin’ is back with an ode to all the travels we missed out on during the pandemic. We will follow a Strummin’ busker as they explore the world with their guitar and experience different music genres and styles. \n\nFollow our 50-strong guitar choir\, accompanied by singers and our band through a night of music from all the continents. \n\nThis concert is organised by Strummin’ Foundation. \n\nStrummin’ Round the World is sponsored by dna.studio and Kwinti Studjows. \n\nAll proceeds from the concerts will be donated to Smiling with Jerome Foundation.
URL:https://strummin.mt/event/strummin-round-the-world/
LOCATION:St Agatha’s Auditorium\, St. Agatha's Auditorium\, Rabat\, Malta
ATTACH;FMTTYPE=image/jpeg:https://strummin.mt/wp-content/uploads/2022/08/Ticket_Splash_FRIDAY.jpg
ORGANIZER;CN="Strummin' Foundation":MAILTO:foundation@strummin.mt
GEO:35.88095;14.39672
X-APPLE-STRUCTURED-LOCATION;VALUE=URI;X-ADDRESS=St Agatha’s Auditorium St. Agatha's Auditorium Rabat Malta;X-APPLE-RADIUS=500;X-TITLE=St. Agatha's Auditorium:geo:14.39672,35.88095
END:VEVENT
END:VCALENDAR